BEGIN:VCALENDAR
VERSION:2.0
PRODID:-//Filip Dvořák - ECPv6.15.18//NONSGML v1.0//EN
CALSCALE:GREGORIAN
METHOD:PUBLISH
X-ORIGINAL-URL:https://filip-dvorak.cz
X-WR-CALDESC:Akce na Filip Dvořák
REFRESH-INTERVAL;VALUE=DURATION:PT1H
X-Robots-Tag:noindex
X-PUBLISHED-TTL:PT1H
BEGIN:VTIMEZONE
TZID:Europe/Prague
BEGIN:DAYLIGHT
TZOFFSETFROM:+0100
TZOFFSETTO:+0200
TZNAME:CEST
DTSTART:20250330T010000
END:DAYLIGHT
BEGIN:STANDARD
TZOFFSETFROM:+0200
TZOFFSETTO:+0100
TZNAME:CET
DTSTART:20251026T010000
END:STANDARD
BEGIN:DAYLIGHT
TZOFFSETFROM:+0100
TZOFFSETTO:+0200
TZNAME:CEST
DTSTART:20260329T010000
END:DAYLIGHT
BEGIN:STANDARD
TZOFFSETFROM:+0200
TZOFFSETTO:+0100
TZNAME:CET
DTSTART:20261025T010000
END:STANDARD
BEGIN:DAYLIGHT
TZOFFSETFROM:+0100
TZOFFSETTO:+0200
TZNAME:CEST
DTSTART:20270328T010000
END:DAYLIGHT
BEGIN:STANDARD
TZOFFSETFROM:+0200
TZOFFSETTO:+0100
TZNAME:CET
DTSTART:20271031T010000
END:STANDARD
END:VTIMEZONE
BEGIN:VEVENT
DTSTART;TZID=Europe/Prague:20260408T170000
DTEND;TZID=Europe/Prague:20260408T190000
DTSTAMP:20260419T201526
CREATED:20260401T193907Z
LAST-MODIFIED:20260408T043150Z
UID:3271-1775667600-1775674800@filip-dvorak.cz
SUMMARY:Zahájení kampaně ODS Praha 1
DESCRIPTION:Zahájení kampaně ODS Praha 1
URL:https://filip-dvorak.cz/event/kavarna/
LOCATION:Vodičkova 18\, Vodičkova 18\, Praha 1\, Praha\, 11000\, Czech Republic
CATEGORIES:Kalendář akcí
ATTACH;FMTTYPE=image/jpeg:https://filip-dvorak.cz/wp-content/uploads/2026/03/FD-prava-main-800x600-1.jpg
ORGANIZER;CN="Filip Dvo%C5%99%C3%A1k":MAILTO:info@filip-dvorak.cz
END:VEVENT
END:VCALENDAR